BEGIN:VCALENDAR
VERSION:2.0
PRODID:-//Heilpraktiker: Einzel- &amp; Paartherapie, TCM-Akupunktur, CH-Therapie Nürnberg - ECPv6.15.17.1//NONSGML v1.0//EN
CALSCALE:GREGORIAN
METHOD:PUBLISH
X-WR-CALNAME:Heilpraktiker: Einzel- &amp; Paartherapie, TCM-Akupunktur, CH-Therapie Nürnberg
X-ORIGINAL-URL:https://heilzentrum-helios.de
X-WR-CALDESC:Veranstaltungen für Heilpraktiker: Einzel- &amp; Paartherapie, TCM-Akupunktur, CH-Therapie Nürnberg
REFRESH-INTERVAL;VALUE=DURATION:PT1H
X-Robots-Tag:noindex
X-PUBLISHED-TTL:PT1H
BEGIN:VTIMEZONE
TZID:Europe/Berlin
BEGIN:DAYLIGHT
TZOFFSETFROM:+0100
TZOFFSETTO:+0200
TZNAME:CEST
DTSTART:20250330T010000
END:DAYLIGHT
BEGIN:STANDARD
TZOFFSETFROM:+0200
TZOFFSETTO:+0100
TZNAME:CET
DTSTART:20251026T010000
END:STANDARD
BEGIN:DAYLIGHT
TZOFFSETFROM:+0100
TZOFFSETTO:+0200
TZNAME:CEST
DTSTART:20260329T010000
END:DAYLIGHT
BEGIN:STANDARD
TZOFFSETFROM:+0200
TZOFFSETTO:+0100
TZNAME:CET
DTSTART:20261025T010000
END:STANDARD
BEGIN:DAYLIGHT
TZOFFSETFROM:+0100
TZOFFSETTO:+0200
TZNAME:CEST
DTSTART:20270328T010000
END:DAYLIGHT
BEGIN:STANDARD
TZOFFSETFROM:+0200
TZOFFSETTO:+0100
TZNAME:CET
DTSTART:20271031T010000
END:STANDARD
END:VTIMEZONE
BEGIN:VEVENT
DTSTART;TZID=Europe/Berlin:20260509T190000
DTEND;TZID=Europe/Berlin:20260509T210000
DTSTAMP:20260424T190432
CREATED:20251129T094116Z
LAST-MODIFIED:20260325T110304Z
UID:10002965-1778353200-1778360400@heilzentrum-helios.de
SUMMARY:Raum für Begegnung auf Seelenebene
DESCRIPTION:Austausch / Was bewegt dich / uns ? \nchanten / tönen / singen / tanzen \nEinfach da sein. \nEnergieausgleich zum Ausgleich der Raummiete: 15 € \n19 – 21 Uhr \nAnmeldung bei Anja: Mobil.: 0176 43 23 63 13
URL:https://heilzentrum-helios.de/veranstaltung/raum-fuer-begegnung-auf-seelenebene-2/2026-05-09/
LOCATION:Heilzentrum Helios\, Am Stadtpark 95\, Nürnberg\, Bayern\, 90409
ORGANIZER;CN="Anja Gesche":MAILTO:info-anja-gesche@gmx.de
END:VEVENT
BEGIN:VEVENT
DTSTART;TZID=Europe/Berlin:20260603T190000
DTEND;TZID=Europe/Berlin:20260603T210000
DTSTAMP:20260424T190432
CREATED:20251129T094116Z
LAST-MODIFIED:20260325T110304Z
UID:10002885-1780513200-1780520400@heilzentrum-helios.de
SUMMARY:Raum für Begegnung auf Seelenebene
DESCRIPTION:Austausch / Was bewegt dich / uns ? \nchanten / tönen / singen / tanzen \nEinfach da sein. \nEnergieausgleich zum Ausgleich der Raummiete: 15 € \n19 – 21 Uhr \nAnmeldung bei Anja: Mobil.: 0176 43 23 63 13
URL:https://heilzentrum-helios.de/veranstaltung/raum-fuer-begegnung-auf-seelenebene-2/2026-06-03/
LOCATION:Heilzentrum Helios\, Am Stadtpark 95\, Nürnberg\, Bayern\, 90409
ORGANIZER;CN="Anja Gesche":MAILTO:info-anja-gesche@gmx.de
END:VEVENT
BEGIN:VEVENT
DTSTART;TZID=Europe/Berlin:20260701T190000
DTEND;TZID=Europe/Berlin:20260701T210000
DTSTAMP:20260424T190432
CREATED:20251129T094116Z
LAST-MODIFIED:20260325T110304Z
UID:10002886-1782932400-1782939600@heilzentrum-helios.de
SUMMARY:Raum für Begegnung auf Seelenebene
DESCRIPTION:Austausch / Was bewegt dich / uns ? \nchanten / tönen / singen / tanzen \nEinfach da sein. \nEnergieausgleich zum Ausgleich der Raummiete: 15 € \n19 – 21 Uhr \nAnmeldung bei Anja: Mobil.: 0176 43 23 63 13
URL:https://heilzentrum-helios.de/veranstaltung/raum-fuer-begegnung-auf-seelenebene-2/2026-07-01/
LOCATION:Heilzentrum Helios\, Am Stadtpark 95\, Nürnberg\, Bayern\, 90409
ORGANIZER;CN="Anja Gesche":MAILTO:info-anja-gesche@gmx.de
END:VEVENT
BEGIN:VEVENT
DTSTART;TZID=Europe/Berlin:20260812T190000
DTEND;TZID=Europe/Berlin:20260812T210000
DTSTAMP:20260424T190432
CREATED:20251129T094116Z
LAST-MODIFIED:20260325T110304Z
UID:10002887-1786561200-1786568400@heilzentrum-helios.de
SUMMARY:Raum für Begegnung auf Seelenebene
DESCRIPTION:Austausch / Was bewegt dich / uns ? \nchanten / tönen / singen / tanzen \nEinfach da sein. \nEnergieausgleich zum Ausgleich der Raummiete: 15 € \n19 – 21 Uhr \nAnmeldung bei Anja: Mobil.: 0176 43 23 63 13
URL:https://heilzentrum-helios.de/veranstaltung/raum-fuer-begegnung-auf-seelenebene-2/2026-08-12/
LOCATION:Heilzentrum Helios\, Am Stadtpark 95\, Nürnberg\, Bayern\, 90409
ORGANIZER;CN="Anja Gesche":MAILTO:info-anja-gesche@gmx.de
END:VEVENT
BEGIN:VEVENT
DTSTART;TZID=Europe/Berlin:20260909T190000
DTEND;TZID=Europe/Berlin:20260909T210000
DTSTAMP:20260424T190432
CREATED:20251129T094116Z
LAST-MODIFIED:20260325T110304Z
UID:10002888-1788980400-1788987600@heilzentrum-helios.de
SUMMARY:Raum für Begegnung auf Seelenebene
DESCRIPTION:Austausch / Was bewegt dich / uns ? \nchanten / tönen / singen / tanzen \nEinfach da sein. \nEnergieausgleich zum Ausgleich der Raummiete: 15 € \n19 – 21 Uhr \nAnmeldung bei Anja: Mobil.: 0176 43 23 63 13
URL:https://heilzentrum-helios.de/veranstaltung/raum-fuer-begegnung-auf-seelenebene-2/2026-09-09/
LOCATION:Heilzentrum Helios\, Am Stadtpark 95\, Nürnberg\, Bayern\, 90409
ORGANIZER;CN="Anja Gesche":MAILTO:info-anja-gesche@gmx.de
END:VEVENT
BEGIN:VEVENT
DTSTART;TZID=Europe/Berlin:20261021T190000
DTEND;TZID=Europe/Berlin:20261021T210000
DTSTAMP:20260424T190432
CREATED:20251129T094116Z
LAST-MODIFIED:20260325T110304Z
UID:10002889-1792609200-1792616400@heilzentrum-helios.de
SUMMARY:Raum für Begegnung auf Seelenebene
DESCRIPTION:Austausch / Was bewegt dich / uns ? \nchanten / tönen / singen / tanzen \nEinfach da sein. \nEnergieausgleich zum Ausgleich der Raummiete: 15 € \n19 – 21 Uhr \nAnmeldung bei Anja: Mobil.: 0176 43 23 63 13
URL:https://heilzentrum-helios.de/veranstaltung/raum-fuer-begegnung-auf-seelenebene-2/2026-10-21/
LOCATION:Heilzentrum Helios\, Am Stadtpark 95\, Nürnberg\, Bayern\, 90409
ORGANIZER;CN="Anja Gesche":MAILTO:info-anja-gesche@gmx.de
END:VEVENT
BEGIN:VEVENT
DTSTART;TZID=Europe/Berlin:20261118T190000
DTEND;TZID=Europe/Berlin:20261118T210000
DTSTAMP:20260424T190432
CREATED:20251129T094116Z
LAST-MODIFIED:20260325T110304Z
UID:10002890-1795028400-1795035600@heilzentrum-helios.de
SUMMARY:Raum für Begegnung auf Seelenebene
DESCRIPTION:Austausch / Was bewegt dich / uns ? \nchanten / tönen / singen / tanzen \nEinfach da sein. \nEnergieausgleich zum Ausgleich der Raummiete: 15 € \n19 – 21 Uhr \nAnmeldung bei Anja: Mobil.: 0176 43 23 63 13
URL:https://heilzentrum-helios.de/veranstaltung/raum-fuer-begegnung-auf-seelenebene-2/2026-11-18/
LOCATION:Heilzentrum Helios\, Am Stadtpark 95\, Nürnberg\, Bayern\, 90409
ORGANIZER;CN="Anja Gesche":MAILTO:info-anja-gesche@gmx.de
END:VEVENT
BEGIN:VEVENT
DTSTART;TZID=Europe/Berlin:20261202T190000
DTEND;TZID=Europe/Berlin:20261202T210000
DTSTAMP:20260424T190432
CREATED:20251129T094116Z
LAST-MODIFIED:20260325T110304Z
UID:10002891-1796238000-1796245200@heilzentrum-helios.de
SUMMARY:Raum für Begegnung auf Seelenebene
DESCRIPTION:Austausch / Was bewegt dich / uns ? \nchanten / tönen / singen / tanzen \nEinfach da sein. \nEnergieausgleich zum Ausgleich der Raummiete: 15 € \n19 – 21 Uhr \nAnmeldung bei Anja: Mobil.: 0176 43 23 63 13
URL:https://heilzentrum-helios.de/veranstaltung/raum-fuer-begegnung-auf-seelenebene-2/2026-12-02/
LOCATION:Heilzentrum Helios\, Am Stadtpark 95\, Nürnberg\, Bayern\, 90409
ORGANIZER;CN="Anja Gesche":MAILTO:info-anja-gesche@gmx.de
END:VEVENT
END:VCALENDAR